BEGIN:VCALENDAR
VERSION:2.0
CALSCALE:GREGORIAN
PRODID:adamgibbons/ics
METHOD:PUBLISH
X-PUBLISHED-TTL:PT1H
BEGIN:VEVENT
UID:13@tucsontimeline.info
SUMMARY:Tactile Cosmology: new works by Amber Doe
DTSTAMP:20260423T161229Z
DTSTART:20240908T010000Z
DTEND:20240908T030000Z
DESCRIPTION:New works by Amber Doe\n\nOn display from September 7th-21st.  
	Opening reception 6-8pm Saturday the7th \n\n\n\n\n Image by: Tina Lieberma
	n\n\nTactile Cosmology prioritizes the black femme experience—its historie
	s\, futures\,\nand creative expressions—interstices of grief and trauma.  
	Grief and trauma are\nexperiences that must be witnessed to be understood 
	and therefore healed. A\nplace to question the gendering of the earth as f
	eminine in relation to ongoing\nviolent extraction. \n\n \n\nIt’s a space 
	for futures created by systems of care acknowledging creation and\npossibi
	lity are generated by black feminism and Afro futurism. The personal is\nu
	niversal exploring the history of geology and paleontological sciences thr
	ough\nmy own relationship to my father via colonial postcards and the neve
	r-ending\ncolossus of white supremacist capitalism.\n\n \n\nUtilizing the 
	space and production support of Snakebite Creation Space\, the\nelements o
	f this show come together for the first time\; integrating years of\nresea
	rch. Tactile Cosmology was created with the generous support of\nPhotograp
	her Alanna Airtram\, an ASU Projecting All Voices Fellowship (funded by\nt
	he Mellon Foundation)\, a MOCA Night Bloom Grant\, and the Arizona Commiss
	ion of\nthe Arts. \n\n \n\nJoin us for an artist talk with Amber and Alann
	a on September 21st at 11 a.m.\;\ncoffee and pastries will be available.
URL:https://tucsontimeline.info/event/tactile-cosmology-new-works-by-amber-
	doe
LOCATION:Snakebite Creation Space - 174 East Toole Ave
STATUS:CONFIRMED
CATEGORIES:art
X-ALT-DESC;FMTTYPE=text/html:<p>New works by Amber Doe</p><p>On display fro
	m September 7th-21st.&nbsp; Opening reception 6-8pm Saturday the7th&nbsp;<
	/p><p><br></p><p>&nbsp;Image by: Tina Lieberman</p><p><em>Tactile Cosmolog
	y&nbsp;</em>prioritizes the black femme experience—its histories, futures,
	 and creative expressions—interstices of grief and trauma.&nbsp; Grief and
	 trauma are experiences that must be witnessed to be understood and theref
	ore healed. A place to question the gendering of the earth as feminine in 
	relation to ongoing violent extraction.&nbsp;</p><p>&nbsp;</p><p>It’s a sp
	ace for futures created by systems of care acknowledging creation and poss
	ibility are generated by black feminism and Afro futurism. The personal is
	 universal exploring the history of geology and paleontological sciences t
	hrough my own relationship to my father via colonial postcards and the nev
	er-ending colossus of white supremacist capitalism.</p><p>&nbsp;</p><p>Uti
	lizing the space and production support of Snakebite Creation Space, the e
	lements of this show come together for the first time; integrating years o
	f research. <em>Tactile Cosmology</em> was created with the generous suppo
	rt of Photographer Alanna Airtram, an ASU Projecting All Voices Fellowship
	 (funded by the Mellon Foundation), a MOCA Night Bloom Grant, and the Ariz
	ona Commission of the Arts.&nbsp;</p><p>&nbsp;</p><p>Join us for an artist
	 talk with Amber and Alanna on September 21st at 11 a.m.; coffee and pastr
	ies will be available.</p>
END:VEVENT
END:VCALENDAR
